BEGIN:VCALENDAR
VERSION:2.0
PRODID:-//Breast Friends &amp; Family - ECPv6.14.1//NONSGML v1.0//EN
CALSCALE:GREGORIAN
METHOD:PUBLISH
X-ORIGINAL-URL:https://www.breastfriendsandfamily.co.uk
X-WR-CALDESC:Events for Breast Friends &amp; Family
REFRESH-INTERVAL;VALUE=DURATION:PT1H
X-Robots-Tag:noindex
X-PUBLISHED-TTL:PT1H
BEGIN:VTIMEZONE
TZID:Europe/London
BEGIN:DAYLIGHT
TZOFFSETFROM:+0000
TZOFFSETTO:+0100
TZNAME:BST
DTSTART:20250330T010000
END:DAYLIGHT
BEGIN:STANDARD
TZOFFSETFROM:+0100
TZOFFSETTO:+0000
TZNAME:GMT
DTSTART:20251026T010000
END:STANDARD
END:VTIMEZONE
BEGIN:VEVENT
DTSTART;TZID=Europe/London:20250830T110000
DTEND;TZID=Europe/London:20250830T130000
DTSTAMP:20260420T092911
CREATED:20250803T155249Z
LAST-MODIFIED:20250803T155249Z
UID:523-1756551600-1756558800@www.breastfriendsandfamily.co.uk
SUMMARY:Volunteer Meeting
DESCRIPTION:
URL:https://www.breastfriendsandfamily.co.uk/event/volunteer-meeting/
LOCATION:The Heart\, 133 Glasgow Road\, Bathgate\, West Lothian\, EH48 2QN
ORGANIZER;CN="Breast Friends and Family":MAILTO:Info@breastfriendsandfamily.co.uk
END:VEVENT
END:VCALENDAR