BEGIN:VCALENDAR
VERSION:2.0
PRODID:-//Breast Friends &amp; Family - ECPv6.14.1//NONSGML v1.0//EN
CALSCALE:GREGORIAN
METHOD:PUBLISH
X-WR-CALNAME:Breast Friends &amp; Family
X-ORIGINAL-URL:https://www.breastfriendsandfamily.co.uk
X-WR-CALDESC:Events for Breast Friends &amp; Family
REFRESH-INTERVAL;VALUE=DURATION:PT1H
X-Robots-Tag:noindex
X-PUBLISHED-TTL:PT1H
BEGIN:VTIMEZONE
TZID:Europe/London
BEGIN:DAYLIGHT
TZOFFSETFROM:+0000
TZOFFSETTO:+0100
TZNAME:BST
DTSTART:20260329T010000
END:DAYLIGHT
BEGIN:STANDARD
TZOFFSETFROM:+0100
TZOFFSETTO:+0000
TZNAME:GMT
DTSTART:20261025T010000
END:STANDARD
END:VTIMEZONE
BEGIN:VEVENT
DTSTART;TZID=Europe/London:20260420T100000
DTEND;TZID=Europe/London:20260420T113000
DTSTAMP:20260420T061725
CREATED:20260322T102624Z
LAST-MODIFIED:20260418T130445Z
UID:901-1776679200-1776684600@www.breastfriendsandfamily.co.uk
SUMMARY:Introduction to Crochet with Ruth - Cancelled
DESCRIPTION:Would you like to learn to crochet? Ruth is running an introductory class\, beginners welcome. All tools and yarn provided.
URL:https://www.breastfriendsandfamily.co.uk/event/introduction-to-crochet-with-ruth-13/
LOCATION:The Heart\, 133 Glasgow Road\, Bathgate\, West Lothian\, EH48 2QN
ORGANIZER;CN="Breast Friends and Family":MAILTO:Info@breastfriendsandfamily.co.uk
END:VEVENT
BEGIN:VEVENT
DTSTART;TZID=Europe/London:20260420T190000
DTEND;TZID=Europe/London:20260420T200000
DTSTAMP:20260420T061725
CREATED:20260222T191556Z
LAST-MODIFIED:20260222T191556Z
UID:804-1776711600-1776715200@www.breastfriendsandfamily.co.uk
SUMMARY:Paracise with Avril at The Heart
DESCRIPTION:Exercise class specifically for breast cancer patients in West Lothian. Low impact\, gentle and effective exercise. PARACISE™ can result in improved posture\, core strength\, increased flexibility\, mobility and can reduce the risk of injury or pain.
URL:https://www.breastfriendsandfamily.co.uk/event/paracise-with-avril-at-the-heart-31/
LOCATION:The Heart\, 133 Glasgow Road\, Bathgate\, West Lothian\, EH48 2QN
CATEGORIES:Patient Classes
END:VEVENT
END:VCALENDAR