BEGIN:VCALENDAR
VERSION:2.0
PRODID:-//Breast Friends &amp; Family - ECPv6.14.1//NONSGML v1.0//EN
CALSCALE:GREGORIAN
METHOD:PUBLISH
X-WR-CALNAME:Breast Friends &amp; Family
X-ORIGINAL-URL:https://www.breastfriendsandfamily.co.uk
X-WR-CALDESC:Events for Breast Friends &amp; Family
REFRESH-INTERVAL;VALUE=DURATION:PT1H
X-Robots-Tag:noindex
X-PUBLISHED-TTL:PT1H
BEGIN:VTIMEZONE
TZID:Europe/London
BEGIN:DAYLIGHT
TZOFFSETFROM:+0000
TZOFFSETTO:+0100
TZNAME:BST
DTSTART:20260329T010000
END:DAYLIGHT
BEGIN:STANDARD
TZOFFSETFROM:+0100
TZOFFSETTO:+0000
TZNAME:GMT
DTSTART:20261025T010000
END:STANDARD
END:VTIMEZONE
BEGIN:VEVENT
DTSTART;TZID=Europe/London:20260423T183000
DTEND;TZID=Europe/London:20260423T193000
DTSTAMP:20260423T110722
CREATED:20260321T202019Z
LAST-MODIFIED:20260321T202019Z
UID:832-1776969000-1776972600@www.breastfriendsandfamily.co.uk
SUMMARY:Yoga with Sarah at The Heart
DESCRIPTION:Yoga class includes breathwork\, calming the body and mind; posture work to help gain balance; flexibility annd ease joint pain; relaxation to help with stress and anxiety; build strength both physically and mentally. Leave feeling balanced both physically and mentally.
URL:https://www.breastfriendsandfamily.co.uk/event/yoga-with-sarah-at-the-heart-31/
LOCATION:The Heart\, 133 Glasgow Road\, Bathgate\, West Lothian\, EH48 2QN
CATEGORIES:Patient Classes
ORGANIZER;CN="Sarah Farrugia":MAILTO:Sarahfarrugia.yoga@gmail.com
END:VEVENT
END:VCALENDAR