BEGIN:VCALENDAR
VERSION:2.0
PRODID:-//Breast Friends &amp; Family - ECPv6.14.1//NONSGML v1.0//EN
CALSCALE:GREGORIAN
METHOD:PUBLISH
X-WR-CALNAME:Breast Friends &amp; Family
X-ORIGINAL-URL:https://www.breastfriendsandfamily.co.uk
X-WR-CALDESC:Events for Breast Friends &amp; Family
REFRESH-INTERVAL;VALUE=DURATION:PT1H
X-Robots-Tag:noindex
X-PUBLISHED-TTL:PT1H
BEGIN:VTIMEZONE
TZID:Europe/London
BEGIN:DAYLIGHT
TZOFFSETFROM:+0000
TZOFFSETTO:+0100
TZNAME:BST
DTSTART:20260329T010000
END:DAYLIGHT
BEGIN:STANDARD
TZOFFSETFROM:+0100
TZOFFSETTO:+0000
TZNAME:GMT
DTSTART:20261025T010000
END:STANDARD
END:VTIMEZONE
BEGIN:VEVENT
DTSTART;TZID=Europe/London:20260426T100000
DTEND;TZID=Europe/London:20260426T130000
DTSTAMP:20260426T015453
CREATED:20260222T183438Z
LAST-MODIFIED:20260222T183438Z
UID:781-1777197600-1777208400@www.breastfriendsandfamily.co.uk
SUMMARY:Support Group Get Together at The Heart
DESCRIPTION:💜 Come along and join us and chat to others who know what you are going through. 💜 You may be newly diagnosed\, in the middle of treatment\, just finished treatment or maybe 5\, 10 or 20 years post treatment\, all welcome\, supporting one another. 😊💜
URL:https://www.breastfriendsandfamily.co.uk/event/support-group-get-together-at-the-heart-13/
LOCATION:The Heart\, 133 Glasgow Road\, Bathgate\, West Lothian\, EH48 2QN
CATEGORIES:Support Group
ORGANIZER;CN="Breast Friends and Family":MAILTO:Info@breastfriendsandfamily.co.uk
END:VEVENT
END:VCALENDAR