BEGIN:VCALENDAR
VERSION:2.0
PRODID:-//Breast Friends &amp; Family - ECPv6.14.1//NONSGML v1.0//EN
CALSCALE:GREGORIAN
METHOD:PUBLISH
X-WR-CALNAME:Breast Friends &amp; Family
X-ORIGINAL-URL:https://www.breastfriendsandfamily.co.uk
X-WR-CALDESC:Events for Breast Friends &amp; Family
REFRESH-INTERVAL;VALUE=DURATION:PT1H
X-Robots-Tag:noindex
X-PUBLISHED-TTL:PT1H

BEGIN:VEVENT
DTSTART;TZID=Europe/London:20250728T190000
DTEND;TZID=Europe/London:20250728T200000
DTSTAMP:20260420T201017
CREATED:20250726T222309Z
LAST-MODIFIED:20250726T222309Z
UID:512-1753729200-1753732800@www.breastfriendsandfamily.co.uk
SUMMARY:Paracise with Avril at The Heart
DESCRIPTION:Exercise class specifically for breast cancer patients in West Lothian. Low impact\, gentle and effective exercise. PARACISE™ can result in improved posture\, core strength\, increased flexibility\, mobility and can reduce the risk of injury or pain.
URL:https://www.breastfriendsandfamily.co.uk/event/paracise-with-avril-at-the-heart-3/
LOCATION:The Heart\, 133 Glasgow Road\, Bathgate\, West Lothian\, EH48 2QN
CATEGORIES:Patient Classes
END:VEVENT
BEGIN:VEVENT
DTSTART;TZID=Europe/London:20250727T100000
DTEND;TZID=Europe/London:20250727T130000
DTSTAMP:20260420T201017
CREATED:20250726T221708Z
LAST-MODIFIED:20250726T221708Z
UID:508-1753610400-1753621200@www.breastfriendsandfamily.co.uk
SUMMARY:Support Group Get Together at Livingston Cricket Club
DESCRIPTION:💜 Come along and join us and chat to others who know what you are going through. 💜 You may be newly diagnosed\, in the middle of treatment\, just finished treatment or maybe 5\, 10 or 20 years post treatment\, all welcome\, supporting one another. 😊💜 \n 
URL:https://www.breastfriendsandfamily.co.uk/event/support-group-get-together-at-livingston-cricket-club-2/
LOCATION:Livingston Cricket Club\, 10A Murieston Valley\, Livingston\, West Lothian\, EH54 9HB
CATEGORIES:Support Group
ORGANIZER;CN="Breast Friends and Family":MAILTO:Info@breastfriendsandfamily.co.uk
END:VEVENT
BEGIN:VEVENT
DTSTART;VALUE=DATE:20250726
DTEND;VALUE=DATE:20250727
DTSTAMP:20260420T201017
CREATED:20250726T222811Z
LAST-MODIFIED:20250726T222811Z
UID:518-1753488000-1753574399@www.breastfriendsandfamily.co.uk
SUMMARY:Complimentary Therapy - Facials with Lesley
DESCRIPTION:💜 Facials offered to secondary breast cancer patients. 💜
URL:https://www.breastfriendsandfamily.co.uk/event/complimentary-therapy-facials-with-lesley/
LOCATION:The Heart\, 133 Glasgow Road\, Bathgate\, West Lothian\, EH48 2QN
CATEGORIES:Complimentary Therapy
ORGANIZER;CN="Breast Friends and Family":MAILTO:Info@breastfriendsandfamily.co.uk
END:VEVENT
BEGIN:VEVENT
DTSTART;TZID=Europe/London:20250725T130000
DTEND;TZID=Europe/London:20250725T170000
DTSTAMP:20260420T201017
CREATED:20250726T222118Z
LAST-MODIFIED:20250726T222118Z
UID:510-1753448400-1753462800@www.breastfriendsandfamily.co.uk
SUMMARY:Menopause Workshop
DESCRIPTION:💜 Breast Friends and Family are offering local breast cancer patients who are suffering from menopausal symptoms as a result of treatment for breast cancer\, the opportunity to attend a menopause workshop\, led by breast cancer nurse specialist Linda Hammel. \n💜 Linda will be talking about the management of menopause symptoms related to cancer treatment\, and will give an introduction to ‘menopause and cancer’ literature. \n💜 Kellie Girdwood will then lead a session about the specific benefits of menopause massage and will be teaching those attending about self help acupressure and relaxation techniques. \n💜 The final session of the afternoon will be a sound bath lead by Tracey\, this will be tailored to harmonise the body and induce positive sleep as well as being relaxing and rejuvenating. \n💜 There are 10 spaces available for this workshop\, but booking is required\, please message to secure your space. \n💜 The workshop is fully funded by Breast Friends and Family but donations are always welcome.
URL:https://www.breastfriendsandfamily.co.uk/event/menopause-workshop/
LOCATION:The Heart\, 133 Glasgow Road\, Bathgate\, West Lothian\, EH48 2QN
CATEGORIES:Patient Workshop
ORGANIZER;CN="Breast Friends and Family":MAILTO:Info@breastfriendsandfamily.co.uk
END:VEVENT
BEGIN:VEVENT
DTSTART;TZID=Europe/London:20250722T183000
DTEND;TZID=Europe/London:20250722T193000
DTSTAMP:20260420T201017
CREATED:20250722T095600Z
LAST-MODIFIED:20250722T095600Z
UID:412-1753209000-1753212600@www.breastfriendsandfamily.co.uk
SUMMARY:Meditation Hour
DESCRIPTION:
URL:https://www.breastfriendsandfamily.co.uk/event/meditation-hour/
LOCATION:The Heart\, 133 Glasgow Road\, Bathgate\, West Lothian\, EH48 2QN
CATEGORIES:Patient Classes
END:VEVENT
BEGIN:VEVENT
DTSTART;TZID=Europe/London:20250721T190000
DTEND;TZID=Europe/London:20250721T200000
DTSTAMP:20260420T201017
CREATED:20250726T222355Z
LAST-MODIFIED:20250726T222355Z
UID:514-1753124400-1753128000@www.breastfriendsandfamily.co.uk
SUMMARY:Paracise with Avril at The Heart
DESCRIPTION:Exercise class specifically for breast cancer patients in West Lothian. Low impact\, gentle and effective exercise. PARACISE™ can result in improved posture\, core strength\, increased flexibility\, mobility and can reduce the risk of injury or pain.
URL:https://www.breastfriendsandfamily.co.uk/event/paracise-with-avril-at-the-heart-4/
LOCATION:The Heart\, 133 Glasgow Road\, Bathgate\, West Lothian\, EH48 2QN
CATEGORIES:Patient Classes
END:VEVENT
BEGIN:VEVENT
DTSTART;TZID=Europe/London:20250531T000000
DTEND;TZID=Europe/London:20250531T000000
DTSTAMP:20260420T201017
CREATED:20250516T203227Z
LAST-MODIFIED:20250516T203227Z
UID:361-1748649600-1748649600@www.breastfriendsandfamily.co.uk
SUMMARY:Prebooked patient complimentary therapy sessions
DESCRIPTION:
URL:https://www.breastfriendsandfamily.co.uk/event/prebooked-patient-complimentary-therapy-sessions-8/
LOCATION:West Lothian
END:VEVENT
BEGIN:VEVENT
DTSTART;TZID=Europe/London:20250529T190000
DTEND;TZID=Europe/London:20250529T190000
DTSTAMP:20260420T201017
CREATED:20250516T203227Z
LAST-MODIFIED:20250516T203227Z
UID:359-1748545200-1748545200@www.breastfriendsandfamily.co.uk
SUMMARY:Aromatherapy Peaceful Night Workshop
DESCRIPTION:
URL:https://www.breastfriendsandfamily.co.uk/event/aromatherapy-peaceful-night-workshop-2/
LOCATION:West Lothian
END:VEVENT
BEGIN:VEVENT
DTSTART;TZID=Europe/London:20250528T100000
DTEND;TZID=Europe/London:20250528T100000
DTSTAMP:20260420T201017
CREATED:20250516T203226Z
LAST-MODIFIED:20250516T203226Z
UID:358-1748426400-1748426400@www.breastfriendsandfamily.co.uk
SUMMARY:Mindfulness Course 10am to 12 noon
DESCRIPTION:
URL:https://www.breastfriendsandfamily.co.uk/event/mindfulness-course-10am-to-12-noon-6/
LOCATION:West Lothian
END:VEVENT
BEGIN:VEVENT
DTSTART;TZID=Europe/London:20250527T190000
DTEND;TZID=Europe/London:20250527T190000
DTSTAMP:20260420T201017
CREATED:20250516T203226Z
LAST-MODIFIED:20250516T203226Z
UID:357-1748372400-1748372400@www.breastfriendsandfamily.co.uk
SUMMARY:Book Group with Sarah 7pm to 8pm
DESCRIPTION:
URL:https://www.breastfriendsandfamily.co.uk/event/book-group-with-sarah-7pm-to-8pm-2/
LOCATION:West Lothian
END:VEVENT
BEGIN:VEVENT
DTSTART;TZID=Europe/London:20250526T190000
DTEND;TZID=Europe/London:20250526T190000
DTSTAMP:20260420T201017
CREATED:20250516T203031Z
LAST-MODIFIED:20250516T203031Z
UID:356-1748286000-1748286000@www.breastfriendsandfamily.co.uk
SUMMARY:Paracise with Avril
DESCRIPTION:
URL:https://www.breastfriendsandfamily.co.uk/event/paracise-with-avril-12/
LOCATION:West Lothian
END:VEVENT
BEGIN:VEVENT
DTSTART;TZID=Europe/London:20250525T000000
DTEND;TZID=Europe/London:20250525T000000
DTSTAMP:20260420T201017
CREATED:20250516T203031Z
LAST-MODIFIED:20250516T203031Z
UID:355-1748131200-1748131200@www.breastfriendsandfamily.co.uk
SUMMARY:💜 STAND AT WELLNESS FESTIVAL - LCC
DESCRIPTION:
URL:https://www.breastfriendsandfamily.co.uk/event/%f0%9f%92%9c-stand-at-wellness-festival-lcc-2/
LOCATION:West Lothian
END:VEVENT
BEGIN:VEVENT
DTSTART;TZID=Europe/London:20250524T000000
DTEND;TZID=Europe/London:20250524T000000
DTSTAMP:20260420T201017
CREATED:20250515T103319Z
LAST-MODIFIED:20250516T203031Z
UID:274-1748044800-1748044800@www.breastfriendsandfamily.co.uk
SUMMARY:Prebooked patient complimentary therapy sessions
DESCRIPTION:
URL:https://www.breastfriendsandfamily.co.uk/event/prebooked-patient-complimentary-therapy-sessions-2/
LOCATION:West Lothian
END:VEVENT
BEGIN:VEVENT
DTSTART;TZID=Europe/London:20250521T100000
DTEND;TZID=Europe/London:20250521T100000
DTSTAMP:20260420T201017
CREATED:20250516T203031Z
LAST-MODIFIED:20250516T203031Z
UID:354-1747821600-1747821600@www.breastfriendsandfamily.co.uk
SUMMARY:Mindfulness Course 10am to 12 noon
DESCRIPTION:
URL:https://www.breastfriendsandfamily.co.uk/event/mindfulness-course-10am-to-12-noon-5/
LOCATION:West Lothian
END:VEVENT
BEGIN:VEVENT
DTSTART;TZID=Europe/London:20250519T190000
DTEND;TZID=Europe/London:20250519T190000
DTSTAMP:20260420T201017
CREATED:20250515T103319Z
LAST-MODIFIED:20250516T203031Z
UID:271-1747681200-1747681200@www.breastfriendsandfamily.co.uk
SUMMARY:Paracise with Avril
DESCRIPTION:
URL:https://www.breastfriendsandfamily.co.uk/event/paracise-with-avril-5/
LOCATION:West Lothian
END:VEVENT
BEGIN:VEVENT
DTSTART;TZID=Europe/London:20250518T140000
DTEND;TZID=Europe/London:20250518T140000
DTSTAMP:20260420T201017
CREATED:20250516T202936Z
LAST-MODIFIED:20250516T202936Z
UID:348-1747576800-1747576800@www.breastfriendsandfamily.co.uk
SUMMARY:Secondary Patient Support Group
DESCRIPTION:
URL:https://www.breastfriendsandfamily.co.uk/event/secondary-patient-support-group-3/
LOCATION:West Lothian
END:VEVENT
BEGIN:VEVENT
DTSTART;TZID=Europe/London:20250517T000000
DTEND;TZID=Europe/London:20250517T000000
DTSTAMP:20260420T201017
CREATED:20250516T202936Z
LAST-MODIFIED:20250516T202936Z
UID:347-1747440000-1747440000@www.breastfriendsandfamily.co.uk
SUMMARY:Prebooked patient complimentary therapy sessions
DESCRIPTION:
URL:https://www.breastfriendsandfamily.co.uk/event/prebooked-patient-complimentary-therapy-sessions-7/
LOCATION:West Lothian
END:VEVENT
BEGIN:VEVENT
DTSTART;TZID=Europe/London:20250514T100000
DTEND;TZID=Europe/London:20250514T100000
DTSTAMP:20260420T201017
CREATED:20250516T202935Z
LAST-MODIFIED:20250516T202936Z
UID:346-1747216800-1747216800@www.breastfriendsandfamily.co.uk
SUMMARY:Mindfulness Course 10am to 12 noon
DESCRIPTION:
URL:https://www.breastfriendsandfamily.co.uk/event/mindfulness-course-10am-to-12-noon-4/
LOCATION:West Lothian
END:VEVENT
BEGIN:VEVENT
DTSTART;TZID=Europe/London:20250512T190000
DTEND;TZID=Europe/London:20250512T190000
DTSTAMP:20260420T201017
CREATED:20250516T202935Z
LAST-MODIFIED:20250516T202936Z
UID:345-1747076400-1747076400@www.breastfriendsandfamily.co.uk
SUMMARY:Paracise with Avril
DESCRIPTION:
URL:https://www.breastfriendsandfamily.co.uk/event/paracise-with-avril-11/
LOCATION:West Lothian
END:VEVENT
BEGIN:VEVENT
DTSTART;TZID=Europe/London:20250511T100000
DTEND;TZID=Europe/London:20250511T100000
DTSTAMP:20260420T201017
CREATED:20250516T202935Z
LAST-MODIFIED:20250516T202936Z
UID:344-1746957600-1746957600@www.breastfriendsandfamily.co.uk
SUMMARY:Patient Support Group 10am to 1pm
DESCRIPTION:
URL:https://www.breastfriendsandfamily.co.uk/event/patient-support-group-10am-to-1pm-2/
LOCATION:West Lothian
END:VEVENT
BEGIN:VEVENT
DTSTART;TZID=Europe/London:20250510T000000
DTEND;TZID=Europe/London:20250510T000000
DTSTAMP:20260420T201017
CREATED:20250515T103318Z
LAST-MODIFIED:20250516T202933Z
UID:270-1746835200-1746835200@www.breastfriendsandfamily.co.uk
SUMMARY:Prebooked patient complimentary therapy sessions
DESCRIPTION:
URL:https://www.breastfriendsandfamily.co.uk/event/prebooked-patient-complimentary-therapy-sessions/
LOCATION:West Lothian
END:VEVENT
BEGIN:VEVENT
DTSTART;TZID=Europe/London:20250509T000000
DTEND;TZID=Europe/London:20250509T000000
DTSTAMP:20260420T201017
CREATED:20250516T202933Z
LAST-MODIFIED:20250516T202933Z
UID:343-1746748800-1746748800@www.breastfriendsandfamily.co.uk
SUMMARY:💜 BFF FASHION SHOW @ THE VU
DESCRIPTION:
URL:https://www.breastfriendsandfamily.co.uk/event/%f0%9f%92%9c-bff-fashion-show-the-vu-2/
LOCATION:West Lothian
END:VEVENT
BEGIN:VEVENT
DTSTART;TZID=Europe/London:20250506T183000
DTEND;TZID=Europe/London:20250506T183000
DTSTAMP:20260420T201017
CREATED:20250516T202933Z
LAST-MODIFIED:20250516T202933Z
UID:342-1746556200-1746556200@www.breastfriendsandfamily.co.uk
SUMMARY:Meditation with Jennifer 6.30pm to 7.30pm
DESCRIPTION:
URL:https://www.breastfriendsandfamily.co.uk/event/meditation-with-jennifer-6-30pm-to-7-30pm-2/
LOCATION:West Lothian
END:VEVENT
BEGIN:VEVENT
DTSTART;TZID=Europe/London:20250505T190000
DTEND;TZID=Europe/London:20250505T190000
DTSTAMP:20260420T201017
CREATED:20250516T202932Z
LAST-MODIFIED:20250516T202932Z
UID:341-1746471600-1746471600@www.breastfriendsandfamily.co.uk
SUMMARY:Paracise with Avril
DESCRIPTION:
URL:https://www.breastfriendsandfamily.co.uk/event/paracise-with-avril-10/
LOCATION:West Lothian
END:VEVENT
BEGIN:VEVENT
DTSTART;TZID=Europe/London:20250503T000000
DTEND;TZID=Europe/London:20250503T000000
DTSTAMP:20260420T201017
CREATED:20250516T202932Z
LAST-MODIFIED:20250516T202932Z
UID:340-1746230400-1746230400@www.breastfriendsandfamily.co.uk
SUMMARY:Prebooked patient complimentary therapy sessions
DESCRIPTION:
URL:https://www.breastfriendsandfamily.co.uk/event/prebooked-patient-complimentary-therapy-sessions-6/
LOCATION:West Lothian
END:VEVENT
BEGIN:VEVENT
DTSTART;TZID=Europe/London:20260420T201017
DTEND;TZID=Europe/London:20260420T201017
DTSTAMP:20260420T201017
CREATED:20250516T203227Z
LAST-MODIFIED:20250516T203227Z
UID:360-0-0@www.breastfriendsandfamily.co.uk
SUMMARY:Secondary Patient Pamper Afternoon
DESCRIPTION:
URL:https://www.breastfriendsandfamily.co.uk/event/secondary-patient-pamper-afternoon-2/
LOCATION:West Lothian
END:VEVENT
END:VCALENDAR