BEGIN:VCALENDAR
VERSION:2.0
PRODID:-//Breast Friends &amp; Family - ECPv6.14.1//NONSGML v1.0//EN
CALSCALE:GREGORIAN
METHOD:PUBLISH
X-WR-CALNAME:Breast Friends &amp; Family
X-ORIGINAL-URL:https://www.breastfriendsandfamily.co.uk
X-WR-CALDESC:Events for Breast Friends &amp; Family
REFRESH-INTERVAL;VALUE=DURATION:PT1H
X-Robots-Tag:noindex
X-PUBLISHED-TTL:PT1H
BEGIN:VTIMEZONE
TZID:Europe/London
BEGIN:DAYLIGHT
TZOFFSETFROM:+0000
TZOFFSETTO:+0100
TZNAME:BST
DTSTART:20250330T010000
END:DAYLIGHT
BEGIN:STANDARD
TZOFFSETFROM:+0100
TZOFFSETTO:+0000
TZNAME:GMT
DTSTART:20251026T010000
END:STANDARD
END:VTIMEZONE
BEGIN:VEVENT
DTSTART;TZID=Europe/London:20250721T190000
DTEND;TZID=Europe/London:20250721T200000
DTSTAMP:20260420T143350
CREATED:20250726T222355Z
LAST-MODIFIED:20250726T222355Z
UID:514-1753124400-1753128000@www.breastfriendsandfamily.co.uk
SUMMARY:Paracise with Avril at The Heart
DESCRIPTION:Exercise class specifically for breast cancer patients in West Lothian. Low impact\, gentle and effective exercise. PARACISE™ can result in improved posture\, core strength\, increased flexibility\, mobility and can reduce the risk of injury or pain.
URL:https://www.breastfriendsandfamily.co.uk/event/paracise-with-avril-at-the-heart-4/
LOCATION:The Heart\, 133 Glasgow Road\, Bathgate\, West Lothian\, EH48 2QN
CATEGORIES:Patient Classes
END:VEVENT
BEGIN:VEVENT
DTSTART;TZID=Europe/London:20250722T183000
DTEND;TZID=Europe/London:20250722T193000
DTSTAMP:20260420T143350
CREATED:20250722T095600Z
LAST-MODIFIED:20250722T095600Z
UID:412-1753209000-1753212600@www.breastfriendsandfamily.co.uk
SUMMARY:Meditation Hour
DESCRIPTION:
URL:https://www.breastfriendsandfamily.co.uk/event/meditation-hour/
LOCATION:The Heart\, 133 Glasgow Road\, Bathgate\, West Lothian\, EH48 2QN
CATEGORIES:Patient Classes
END:VEVENT
BEGIN:VEVENT
DTSTART;TZID=Europe/London:20250725T130000
DTEND;TZID=Europe/London:20250725T170000
DTSTAMP:20260420T143350
CREATED:20250726T222118Z
LAST-MODIFIED:20250726T222118Z
UID:510-1753448400-1753462800@www.breastfriendsandfamily.co.uk
SUMMARY:Menopause Workshop
DESCRIPTION:💜 Breast Friends and Family are offering local breast cancer patients who are suffering from menopausal symptoms as a result of treatment for breast cancer\, the opportunity to attend a menopause workshop\, led by breast cancer nurse specialist Linda Hammel. \n💜 Linda will be talking about the management of menopause symptoms related to cancer treatment\, and will give an introduction to ‘menopause and cancer’ literature. \n💜 Kellie Girdwood will then lead a session about the specific benefits of menopause massage and will be teaching those attending about self help acupressure and relaxation techniques. \n💜 The final session of the afternoon will be a sound bath lead by Tracey\, this will be tailored to harmonise the body and induce positive sleep as well as being relaxing and rejuvenating. \n💜 There are 10 spaces available for this workshop\, but booking is required\, please message to secure your space. \n💜 The workshop is fully funded by Breast Friends and Family but donations are always welcome.
URL:https://www.breastfriendsandfamily.co.uk/event/menopause-workshop/
LOCATION:The Heart\, 133 Glasgow Road\, Bathgate\, West Lothian\, EH48 2QN
CATEGORIES:Patient Workshop
ORGANIZER;CN="Breast Friends and Family":MAILTO:Info@breastfriendsandfamily.co.uk
END:VEVENT
BEGIN:VEVENT
DTSTART;VALUE=DATE:20250726
DTEND;VALUE=DATE:20250727
DTSTAMP:20260420T143350
CREATED:20250726T222811Z
LAST-MODIFIED:20250726T222811Z
UID:518-1753488000-1753574399@www.breastfriendsandfamily.co.uk
SUMMARY:Complimentary Therapy - Facials with Lesley
DESCRIPTION:💜 Facials offered to secondary breast cancer patients. 💜
URL:https://www.breastfriendsandfamily.co.uk/event/complimentary-therapy-facials-with-lesley/
LOCATION:The Heart\, 133 Glasgow Road\, Bathgate\, West Lothian\, EH48 2QN
CATEGORIES:Complimentary Therapy
ORGANIZER;CN="Breast Friends and Family":MAILTO:Info@breastfriendsandfamily.co.uk
END:VEVENT
BEGIN:VEVENT
DTSTART;TZID=Europe/London:20250727T100000
DTEND;TZID=Europe/London:20250727T130000
DTSTAMP:20260420T143350
CREATED:20250726T221708Z
LAST-MODIFIED:20250726T221708Z
UID:508-1753610400-1753621200@www.breastfriendsandfamily.co.uk
SUMMARY:Support Group Get Together at Livingston Cricket Club
DESCRIPTION:💜 Come along and join us and chat to others who know what you are going through. 💜 You may be newly diagnosed\, in the middle of treatment\, just finished treatment or maybe 5\, 10 or 20 years post treatment\, all welcome\, supporting one another. 😊💜 \n 
URL:https://www.breastfriendsandfamily.co.uk/event/support-group-get-together-at-livingston-cricket-club-2/
LOCATION:Livingston Cricket Club\, 10A Murieston Valley\, Livingston\, West Lothian\, EH54 9HB
CATEGORIES:Support Group
ORGANIZER;CN="Breast Friends and Family":MAILTO:Info@breastfriendsandfamily.co.uk
END:VEVENT
BEGIN:VEVENT
DTSTART;TZID=Europe/London:20250728T190000
DTEND;TZID=Europe/London:20250728T200000
DTSTAMP:20260420T143350
CREATED:20250726T222309Z
LAST-MODIFIED:20250726T222309Z
UID:512-1753729200-1753732800@www.breastfriendsandfamily.co.uk
SUMMARY:Paracise with Avril at The Heart
DESCRIPTION:Exercise class specifically for breast cancer patients in West Lothian. Low impact\, gentle and effective exercise. PARACISE™ can result in improved posture\, core strength\, increased flexibility\, mobility and can reduce the risk of injury or pain.
URL:https://www.breastfriendsandfamily.co.uk/event/paracise-with-avril-at-the-heart-3/
LOCATION:The Heart\, 133 Glasgow Road\, Bathgate\, West Lothian\, EH48 2QN
CATEGORIES:Patient Classes
END:VEVENT
BEGIN:VEVENT
DTSTART;TZID=Europe/London:20250731T183000
DTEND;TZID=Europe/London:20250731T193000
DTSTAMP:20260420T143350
CREATED:20250726T222513Z
LAST-MODIFIED:20250726T222513Z
UID:516-1753986600-1753990200@www.breastfriendsandfamily.co.uk
SUMMARY:Yoga with Sarah at The Heart
DESCRIPTION:Yoga class includes breathwork\, calming the body & mind; posture work to help gain balance; flexibility & ease joint pain; relaxation to help with stress & anxiety; build strength both physically and mentally. Leave feeling balanced both physically and mentally.
URL:https://www.breastfriendsandfamily.co.uk/event/yoga-with-sarah-at-the-heart-4/
LOCATION:The Heart\, 133 Glasgow Road\, Bathgate\, West Lothian\, EH48 2QN
CATEGORIES:Patient Classes
ORGANIZER;CN="Sarah Farrugia":MAILTO:Sarahfarrugia.yoga@gmail.com
END:VEVENT
END:VCALENDAR